BEGIN:VCALENDAR
VERSION:2.0
PRODID:-//Optiekvision B.V. - ECPv6.15.13//NONSGML v1.0//EN
CALSCALE:GREGORIAN
METHOD:PUBLISH
X-WR-CALNAME:Optiekvision B.V.
X-ORIGINAL-URL:https://optiekvision.nl
X-WR-CALDESC:Evenementen voor Optiekvision B.V.
REFRESH-INTERVAL;VALUE=DURATION:PT1H
X-Robots-Tag:noindex
X-PUBLISHED-TTL:PT1H
BEGIN:VTIMEZONE
TZID:Europe/Paris
BEGIN:DAYLIGHT
TZOFFSETFROM:+0100
TZOFFSETTO:+0200
TZNAME:CEST
DTSTART:20190331T010000
END:DAYLIGHT
BEGIN:STANDARD
TZOFFSETFROM:+0200
TZOFFSETTO:+0100
TZNAME:CET
DTSTART:20191027T010000
END:STANDARD
BEGIN:DAYLIGHT
TZOFFSETFROM:+0100
TZOFFSETTO:+0200
TZNAME:CEST
DTSTART:20200329T010000
END:DAYLIGHT
BEGIN:STANDARD
TZOFFSETFROM:+0200
TZOFFSETTO:+0100
TZNAME:CET
DTSTART:20201025T010000
END:STANDARD
BEGIN:DAYLIGHT
TZOFFSETFROM:+0100
TZOFFSETTO:+0200
TZNAME:CEST
DTSTART:20210328T010000
END:DAYLIGHT
BEGIN:STANDARD
TZOFFSETFROM:+0200
TZOFFSETTO:+0100
TZNAME:CET
DTSTART:20211031T010000
END:STANDARD
BEGIN:DAYLIGHT
TZOFFSETFROM:+0100
TZOFFSETTO:+0200
TZNAME:CEST
DTSTART:20220327T010000
END:DAYLIGHT
BEGIN:STANDARD
TZOFFSETFROM:+0200
TZOFFSETTO:+0100
TZNAME:CET
DTSTART:20221030T010000
END:STANDARD
BEGIN:DAYLIGHT
TZOFFSETFROM:+0100
TZOFFSETTO:+0200
TZNAME:CEST
DTSTART:20230326T010000
END:DAYLIGHT
BEGIN:STANDARD
TZOFFSETFROM:+0200
TZOFFSETTO:+0100
TZNAME:CET
DTSTART:20231029T010000
END:STANDARD
BEGIN:DAYLIGHT
TZOFFSETFROM:+0100
TZOFFSETTO:+0200
TZNAME:CEST
DTSTART:20240331T010000
END:DAYLIGHT
BEGIN:STANDARD
TZOFFSETFROM:+0200
TZOFFSETTO:+0100
TZNAME:CET
DTSTART:20241027T010000
END:STANDARD
BEGIN:DAYLIGHT
TZOFFSETFROM:+0100
TZOFFSETTO:+0200
TZNAME:CEST
DTSTART:20250330T010000
END:DAYLIGHT
BEGIN:STANDARD
TZOFFSETFROM:+0200
TZOFFSETTO:+0100
TZNAME:CET
DTSTART:20251026T010000
END:STANDARD
BEGIN:DAYLIGHT
TZOFFSETFROM:+0100
TZOFFSETTO:+0200
TZNAME:CEST
DTSTART:20260329T010000
END:DAYLIGHT
BEGIN:STANDARD
TZOFFSETFROM:+0200
TZOFFSETTO:+0100
TZNAME:CET
DTSTART:20261025T010000
END:STANDARD
END:VTIMEZONE
BEGIN:VEVENT
DTSTART;TZID=Europe/Paris:20250926T090000
DTEND;TZID=Europe/Paris:20250926T161500
DTSTAMP:20260422T165026
CREATED:20250905T142931Z
LAST-MODIFIED:20250910T142234Z
UID:1384958-1758877200-1758903300@optiekvision.nl
SUMMARY:Zomersymposium NVVO 2025
DESCRIPTION:Laservision is op 26 september 2025 weer aanwezig op het Zomersymposium NVVO 2025 met een stand. \nHet Zomersymposium NVVO 2025 is een scholingsdag\, georganiseerd door de NVVO (Nederlandse Vereniging Van Orthoptisten\, met veel interessante sprekers. \n\nDatum: 26 september 2025\nLocatie: Postillion Hotel Bunnik\nCategorieën: NvVO / Orthopisten\n\nBekijk de website van Zomersymposium NVVO 2025 voor meer informatie! \nGraag tot ziens op het Zomersymposium NVVO 2025!
URL:https://optiekvision.nl/event/zomersymposium-nvvo-2025/
LOCATION:Postillion Hotel Bunnik\, Baan van Fectio 1\, Bunnik\, 3981 HZ\, Netherlands
CATEGORIES:Beurzen en congressen,Laservision,Oogheelkunde
ATTACH;FMTTYPE=image/png:https://optiekvision.nl/wp-content/uploads/2025/09/logo-600x240-1.png
END:VEVENT
BEGIN:VEVENT
DTSTART;TZID=Europe/Paris:20250907T093000
DTEND;TZID=Europe/Paris:20250908T180000
DTSTAMP:20260422T165026
CREATED:20250905T133450Z
LAST-MODIFIED:20250910T142256Z
UID:1384951-1757237400-1757354400@optiekvision.nl
SUMMARY:BOLD XXL Optical Fair 2025
DESCRIPTION:Laservision en Optiekvision zijn op 7 en 8 september 2025 weer aanwezig op Bold XXL. Bold is een optiek evenement waar opticiens en leveranciers samenkomen voor een grootschalige presentatie van de nieuwste trends\, producten\, ontwikkelingen\, inspiratie en nog veel meer. Wij tonen u de nieuwste apparatuur\, instrumenten en inrichtingen voor de professionele oogspecialist. \nGraag tot ziens op het BOLD XXL Optical Fair 2025! \nBeide dagen geopend van 09.30 tot 18.00 uur\nMet op zondag 7 September een afsluitende borrel (tot 20.00) met een DJ. \nLocatie: Brabanthallen – Den Bosch.\nDiezekade 2\, 5222 AK ‘s-Hertogenbosch\, Nederland \nMeer informatie over Bold Optical Fair? Bekijk de website!
URL:https://optiekvision.nl/event/bold-xxl-optical-fair/
LOCATION:Brabanthallen – Den Bosch\, Diezekade 2\, ‘s-Hertogenbosch\, 5222 AK\, Netherlands
CATEGORIES:Beurzen en congressen,Laservision,Oogheelkunde
ATTACH;FMTTYPE=image/jpeg:https://optiekvision.nl/wp-content/uploads/2025/09/BOLD-XXL-Optical-Fair-2025-scaled.jpg
END:VEVENT
BEGIN:VEVENT
DTSTART;TZID=Europe/Paris:20231124T160000
DTEND;TZID=Europe/Paris:20231124T170000
DTSTAMP:20260422T165026
CREATED:20240111T074956Z
LAST-MODIFIED:20240111T075014Z
UID:1380909-1700841600-1700845200@optiekvision.nl
SUMMARY:WEBINAR: Hoe kan lease jouw salon helpen groeien?
DESCRIPTION:Save The Date! 24 november 2022\nAls huidkliniek wil je groeien en nieuwe innovaties kunnen omarmen. \nZeker als je groeit komt er veel op je af en komt de vraag naar voren hoe je dit het beste kunt inregelen. Denk daarbij aan extra kosten voor huisvesting\, personeel\, apparatuur\, marketing en dat soort dingen meer. Een belangrijk onderdeel daarvan is een antwoord op de vraag: ‘Hoe ga ik dit betalen?’ \nEen van de mogelijkheden is het leasen van nieuwe apparatuur. Toch is leasen niet iets wat je iedere dag doet en daarom kunnen wij ons voorstellen dat je hier nog veel vragen over hebt\, zoals: \n\nWelke soorten lease zijn er? \nWanneer moet ik kiezen voor lease en wanneer niet? \nHoe zie het proces eruit? \nWaar moet ik rekening mee houden bij het afsluiten van een lease?\nHoe bouw ik een toekomstbestendige huidkliniek?\n\nAllemaal vragen waar we graag antwoord op geven in ons webinar. We hebben hiervoor onze partner MediLease uitgenodigd om al jouw vragen te beantwoorden. \nOok hebben we dit jaar weer een Eindejaarsactie waarbij wij voor nieuwe investeringen de eerste drie leasetermijnen voor jou betalen. Ben jij nieuwsgierig hoe dit werkt en welke voordelen je hiermee kunt behalen? \nSchrijf je dan nu in voor dit webinar.
URL:https://optiekvision.nl/event/lease-webinar/
CATEGORIES:Esthetisch,Laservision,Webinar,Workshops
ATTACH;FMTTYPE=image/jpeg:https://optiekvision.nl/wp-content/uploads/2024/01/Achtergrond-Event-website.jpg
END:VEVENT
BEGIN:VEVENT
DTSTART;VALUE=DATE:20231007
DTEND;VALUE=DATE:20231008
DTSTAMP:20260422T165026
CREATED:20240111T075231Z
LAST-MODIFIED:20240111T075231Z
UID:1380912-1696636800-1696723199@optiekvision.nl
SUMMARY:OFN symposium
DESCRIPTION:
URL:https://optiekvision.nl/event/ofn-symposium-2/
LOCATION:Het Oogziekenhuis\, Schiedamse Vest 180\, Rotterdam\, 3011 BH\, Nederland
CATEGORIES:Oogheelkunde
ATTACH;FMTTYPE=image/jpeg:https://optiekvision.nl/wp-content/uploads/2024/01/Xephilio-OCT-S1.jpg
END:VEVENT
BEGIN:VEVENT
DTSTART;TZID=Europe/Paris:20230621T090000
DTEND;TZID=Europe/Paris:20230623T170000
DTSTAMP:20260422T165026
CREATED:20240111T072245Z
LAST-MODIFIED:20240111T074516Z
UID:1380883-1687338000-1687539600@optiekvision.nl
SUMMARY:NOG Jaarcongres 2023
DESCRIPTION:Laservision is weer aanwezig op dé oogheelkundige beurs van het jaar. Wij tonen u de nieuwste apparatuur\, instrumenten en inrichtingen voor de professionele oogspecialist. \nGraag tot ziens op het NOG Jaarcongres 2023!
URL:https://optiekvision.nl/event/nog-jaarcongres-2023/
LOCATION:MECC Maastricht\, Maastricht\, 9727KB\, Nederland
CATEGORIES:Beurzen en congressen,Laservision,Oogheelkunde
ATTACH;FMTTYPE=image/jpeg:https://optiekvision.nl/wp-content/uploads/2024/01/Oogheader-e1587021150733.jpg
END:VEVENT
BEGIN:VEVENT
DTSTART;TZID=Europe/Paris:20230601T110000
DTEND;TZID=Europe/Paris:20230601T120000
DTSTAMP:20260422T165026
CREATED:20240111T072516Z
LAST-MODIFIED:20240111T074544Z
UID:1380888-1685617200-1685620800@optiekvision.nl
SUMMARY:Webinar: Bodycontouring: de nieuwste INDIBA radiofrequentie in combinatie met de Clatuu
DESCRIPTION:Tijdens dit webinar introduceren onze klinisch trainers het nieuwste INDIBA radiofrequentie apparaat\, de INDIBA Pro Max. Dit apparaat onderscheidt zich van andere radiofrequentie apparatuur vanwege zijn specifieke en stabiele frequentie op 448kHz. \nDe behandeling stimuleert een gezonde celfunctie waardoor de huid wordt gelift\, er huidverstrakking zichtbaar wordt en fijne lijntjes en rimpels verbeteren.\n​​​​​​​\nDe trainers zullen tijdens de webinar het werkingsmechanisme en de behandeling uitvoerig toelichten. Tevens wordt de combinatie met de Clatuu besproken. De Clatuu en de INDIBA Pro Max zijn namelijk beide zeer effectieve behandelmethoden voor bodycontouring\, maar de combinatie van beide behandelt plaatselijke vetophopingen én verstrakt de huid. \nPresentatie door\nMax Veldhuizen – Adviseur Bodycontouring\nDenise Dekker – Clinical Trainer
URL:https://optiekvision.nl/event/webinar-bodycontouring-de-nieuwste-indiba-radiofrequentie-in-combinatie-met-de-clatuu/
CATEGORIES:Esthetisch,Laservision,Webinar,Workshops
ATTACH;FMTTYPE=image/jpeg:https://optiekvision.nl/wp-content/uploads/2024/01/IDB_Application-Images_EDNA-PRO-MAX_Spa-Wellness-Small.jpg
END:VEVENT
BEGIN:VEVENT
DTSTART;TZID=Europe/Paris:20230513T094500
DTEND;TZID=Europe/Paris:20230513T150000
DTSTAMP:20260422T165026
CREATED:20240111T071833Z
LAST-MODIFIED:20240111T074443Z
UID:1380880-1683971100-1683990000@optiekvision.nl
SUMMARY:OCT Symposium 2023
DESCRIPTION:Symposium: Expand your horizon with the Canon OCT\nNa het overweldigende succes van het OCT symposium de afgelopen jaren organiseren wij in samenwerking met Canon Medical een nieuwe symposium. \nOntdek de nieuwste ontwikkelingen op het gebied van OCT/Angio en Swept Source tijdens dit symposium met vooraanstaande sprekers uit de oogheelkunde. \nProgramma \n09:30 uur – Aanvang met registratie \n10:15- 10:30 uur – Opening door Ori Zahavi – Canon Medical\n10:30-11:00 uur – Dr. H. Lemij\n11:00-11:30 uur – Dr. M.E.J. van Velthoven\n11:30-12:00 uur – Dr. J. Martinez \n12:00-13:30 uur – Uitgebreide lunch \n13:30-14:00 uur – Dr. R.P.H.M. Müskens\n14:00-14:30 uur – Dr. A. Govetto \n14:30 uur – Afsluiting en gezamenlijke borrel \n\nDownload hier het volledige programma \nAccreditatie wordt wederom aangevraagd. \nDe inschrijving is gesloten per 1 mei 2023. \nMocht u vragen hebben over uw inschrijving\, stuur dan een mail naar receptie@laservision.nl of bel: 0529-428000.
URL:https://optiekvision.nl/event/oct-symposium/
LOCATION:Hotel Van der Valk Utrecht\, Winthontlaan 4\, Utrecht\, 3526 KV\, Nederland
CATEGORIES:Beurzen en congressen,Laservision,Oogheelkunde,Workshops
END:VEVENT
BEGIN:VEVENT
DTSTART;TZID=Europe/Paris:20230419T110000
DTEND;TZID=Europe/Paris:20230419T120000
DTSTAMP:20260422T165026
CREATED:20240111T072927Z
LAST-MODIFIED:20240111T074648Z
UID:1380894-1681902000-1681905600@optiekvision.nl
SUMMARY:Webinar: Wat betekent de photofabulous behandeling voor jouw praktijk? De veelzijdigheid van de STELLAR M22
DESCRIPTION:Presentatie:\nJilly Hoose – Adviseuse Huidtherapie\nDenise Dekker – Clinical Trainer \nDit webinar staat volledig in het teken van de STELLAR M22. Tijdens dit webinar gaan onze klinische trainers dieper in op alle mogelijkheden van dit veelzijdige platform. De STELLAR M22 is een uniek platform met de beschikking over IPL\, Nd:YAG\, Q-Switched Nd:YAG en de ResurFX.\nAlle modules komen aanbod. En we zoeken de diepgang bij IPL en de ResurFX. \nSomething NEW! Kom tijdens deze webinar ook alles te weten over de nieuwste trend van 2023; Photofabulous! Een unieke combinatie van IPL en de ResurFX in een behandeling. Op deze manier kan jij je cliënt nog sneller en met verbluffende resultaten van dienst zijn.\nDe photofabulous behandeling is geschikt voor: anti-aging\, photo-aging\, fijne lijntjes\, (acne)littekens\, verbetering van roodheden en pigment problematieken. \nDus wil jij alles halen uit je STELLAR M22 of ben je benieuwd wat de platform kan betekenen voor jouw praktijk\, kijk dan mee op 19 april.\nGeschikt voor zowel nieuwe klanten als huidige gebruikers.
URL:https://optiekvision.nl/event/wat-betekent-de-photofabulous-behandeling-voor-jouw-praktijk-de-veelzijdigheid-van-de-stellar-m22/
CATEGORIES:Esthetisch,Laservision,Webinar,Workshops
ATTACH;FMTTYPE=image/jpeg:https://optiekvision.nl/wp-content/uploads/2024/01/Gezicht-20-scaled-1.jpg
END:VEVENT
BEGIN:VEVENT
DTSTART;TZID=Europe/Paris:20230323T190000
DTEND;TZID=Europe/Paris:20230323T200000
DTSTAMP:20260422T165026
CREATED:20240111T075618Z
LAST-MODIFIED:20240111T075630Z
UID:1380920-1679598000-1679601600@optiekvision.nl
SUMMARY:Webinar: Glaucoom & Wide Field Imaging
DESCRIPTION:Glaucoom & Wide Field Imaging: Leer van de Experts en Verkrijg Nieuwe Inzichten!\nProgramma \n\nHet gebruik van de OCT bij glaucoom – Dr. Hans. G. Lemij\, Oogarts en Glaucoomspecialist\nHet Oogziekenhuis Rotterdam\nWide Field OCT en OCT angiografie – Dr. Rogier Müskens\, Oogarts\nUniversitair Medisch Centrum Groningen\nLive Q&A\n\nRegistreer hier kosteloos
URL:https://optiekvision.nl/event/webinar-glaucoom-wide-field-imaging/
CATEGORIES:Laservision,Oogheelkunde,Workshops
ATTACH;FMTTYPE=image/jpeg:https://optiekvision.nl/wp-content/uploads/2024/01/Eyecare_March_2022_speakers.jpg
END:VEVENT
BEGIN:VEVENT
DTSTART;TZID=Europe/Paris:20230318T100000
DTEND;TZID=Europe/Paris:20230318T160000
DTSTAMP:20260422T165026
CREATED:20240111T072720Z
LAST-MODIFIED:20240111T074614Z
UID:1380891-1679133600-1679155200@optiekvision.nl
SUMMARY:Maastricht Echografie Cursus
DESCRIPTION:Locatie: Dagcentrum Universiteitskliniek voor Oogheelkunde\, Maastricht.
URL:https://optiekvision.nl/event/maastricht-echografie-cursus/
CATEGORIES:Beurzen en congressen,Laservision,Oogheelkunde,Workshops
ATTACH;FMTTYPE=image/jpeg:https://optiekvision.nl/wp-content/uploads/2024/01/5d6917331e908_ABSolu-1.jpg
END:VEVENT
BEGIN:VEVENT
DTSTART;TZID=Europe/Paris:20230313T150000
DTEND;TZID=Europe/Paris:20230313T160000
DTSTAMP:20260422T165026
CREATED:20240111T073444Z
LAST-MODIFIED:20240111T074732Z
UID:1380897-1678719600-1678723200@optiekvision.nl
SUMMARY:Webinar: Verschillende technologieën in laserontharing. Kies de juiste voor jou!
DESCRIPTION:Tijdens dit webinar geven onze klinische trainers een diepgaande vergelijking van de verschillende soorten ontharingslasers die op de markt zijn\, waaronder Diode\, Alexandrite/ND:Yag en IPL.\nZe bespreken de voordelen van elk lasertype en leggen uit wat de beste toepassingen voor elk type zijn\, zodat de deelnemers een weloverwogen beslissing kunnen nemen bij het selecteren van een laser voor hun praktijk. \nOnze trainers benadrukken ook het belang van een goede training en onderhoud van lasermachines\, evenals de potentiële risico’s en complicaties bij onjuist gebruik.\nTenslotte zullen zij richtlijnen geven over de juiste veiligheidsprotocollen en de noodzakelijke voorzorgsmaatregelen. \nPresentatie:\nJilly Hoose\, Adviseuse Huidtherapie\nDenise Dekker\, Clinical Trainer \nSchrijf je dan nu in voor dit webinar.
URL:https://optiekvision.nl/event/verschillende-technologieen-in-laserontharing-kies-de-juiste-voor-jou/
CATEGORIES:Esthetisch,Laservision,Webinar,Workshops
ATTACH;FMTTYPE=image/jpeg:https://optiekvision.nl/wp-content/uploads/2024/01/Header-LightSheer.jpg
END:VEVENT
BEGIN:VEVENT
DTSTART;VALUE=DATE:20230313
DTEND;VALUE=DATE:20230314
DTSTAMP:20260422T165026
CREATED:20240111T074123Z
LAST-MODIFIED:20240111T074123Z
UID:1380906-1678665600-1678751999@optiekvision.nl
SUMMARY:OVN congres
DESCRIPTION:Op maandag 13 maart 2023 vindt het congres van de Optometristen Vereniging Nederland (OVN) plaats. Zoals voorgaande jaren vindt het congres plaats in de zalen van congrescentrum 1931 te Den Bosch. Uiteraard is Laservision weer aanwezig. \nWij verwelkomen u graag op onze stand.
URL:https://optiekvision.nl/event/ovn-congres/
CATEGORIES:Beurzen en congressen,Laservision,Oogheelkunde
ATTACH;FMTTYPE=image/jpeg:https://optiekvision.nl/wp-content/uploads/2024/01/Midden-RV-II.jpg
END:VEVENT
BEGIN:VEVENT
DTSTART;VALUE=DATE:20230120
DTEND;VALUE=DATE:20230121
DTSTAMP:20260422T165026
CREATED:20240111T073844Z
LAST-MODIFIED:20240111T073944Z
UID:1380902-1674172800-1674259199@optiekvision.nl
SUMMARY:OFN symposium
DESCRIPTION:Op vrijdag 20 januari 2023 vindt het OFN symposium plaats in het Oogziekenhuis te Rotterdam. \nUiteraard is Laservision weer aanwezig. Wij verwelkomen u graag op onze stand.
URL:https://optiekvision.nl/event/ofn-symposium/
CATEGORIES:Beurzen en congressen,Laservision,Oogheelkunde
ATTACH;FMTTYPE=image/jpeg:https://optiekvision.nl/wp-content/uploads/2024/01/Midden-RV-II.jpg
END:VEVENT
BEGIN:VEVENT
DTSTART;TZID=Europe/Paris:20230111T100000
DTEND;TZID=Europe/Paris:20230111T120000
DTSTAMP:20260422T165026
CREATED:20240111T073622Z
LAST-MODIFIED:20240111T073712Z
UID:1380900-1673431200-1673438400@optiekvision.nl
SUMMARY:NVvO voorjaarssymposium
DESCRIPTION:Voorjaarssymposium van de Nederlandse Vereniging van Orthoptisten.
URL:https://optiekvision.nl/event/nvvo-voorjaarssymposium/
CATEGORIES:Beurzen en congressen
END:VEVENT
BEGIN:VEVENT
DTSTART;VALUE=DATE:20220915
DTEND;VALUE=DATE:20220916
DTSTAMP:20260422T165026
CREATED:20240111T075400Z
LAST-MODIFIED:20240111T075400Z
UID:1380917-1663200000-1663286399@optiekvision.nl
SUMMARY:FMT Totaal OK 2022
DESCRIPTION:
URL:https://optiekvision.nl/event/fmt-totaal-ok-2022/
CATEGORIES:Beurzen en congressen,OK
ATTACH;FMTTYPE=image/jpeg:https://optiekvision.nl/wp-content/uploads/2024/01/RiEye-Mk2S-R7-1440-DSC00390-1-768x576-2.jpg
END:VEVENT
BEGIN:VEVENT
DTSTART;TZID=Europe/Paris:20211130T093000
DTEND;TZID=Europe/Paris:20211130T163000
DTSTAMP:20260422T165026
CREATED:20240111T081405Z
LAST-MODIFIED:20240111T081421Z
UID:1380935-1638264600-1638289800@optiekvision.nl
SUMMARY:Cursus Laserveiligheid\, locatie Alphen a/d Rijn
DESCRIPTION:Cursus Laserveiligheid 2021\nDe cursus wordt op de volgende dagen gehouden in Alphen a/d Rijn: \n\nDonderdag 9 september 2021\nDinsdag 12 oktober 2021\nDonderdag 4 november 2021\nDinsdag 30 november 2021\n\nMinimum aantal deelnemers per cursus is 5. Maximaal aantal deelnemers is 8.\n\nIn overleg kan de cursus ook bij u op locatie gegeven worden (on-site). Minimaal aantal deelnemers is dan 5. Lunch verzorgt u zelf en u zorgt voor een beamer met scherm/of muur. \nVoor meer informatie klik op de onderstaande button of neem contact op met: Wim Dingemans\, 0529-428 000
URL:https://optiekvision.nl/event/cursus-laserveiligheid-locatie-alphen-a-d-rijn-3/
LOCATION:Laservision Instruments B.V.\, J. Keplerweg 8F\, Alphen a/d Rijn\, 2408 AC\, Nederland
CATEGORIES:Dental,Esthetisch,Gynaecologie,KNO,Oogheelkunde,Tandartsen,Urologie,Workshops
ATTACH;FMTTYPE=image/jpeg:https://optiekvision.nl/wp-content/uploads/2024/01/laserveiligheid.jpg
ORGANIZER;CN="Laservision Instruments B.V.":MAILTO:info@laservision.nl
END:VEVENT
BEGIN:VEVENT
DTSTART;VALUE=DATE:20211111
DTEND;VALUE=DATE:20211113
DTSTAMP:20260422T165026
CREATED:20240111T075822Z
LAST-MODIFIED:20240111T075822Z
UID:1380924-1636588800-1636761599@optiekvision.nl
SUMMARY:Najaarscongres NVMKA/SSKMKA
DESCRIPTION:Thema: “Met het Oog op Morgen”
URL:https://optiekvision.nl/event/najaarscongres-nvmka-sskmka/
CATEGORIES:Beurzen en congressen,Dental,OK
ATTACH;FMTTYPE=image/jpeg:https://optiekvision.nl/wp-content/uploads/2024/01/Midden-7.jpg
END:VEVENT
BEGIN:VEVENT
DTSTART;VALUE=DATE:20211106
DTEND;VALUE=DATE:20211107
DTSTAMP:20260422T165026
CREATED:20240111T071438Z
LAST-MODIFIED:20240111T074345Z
UID:1380876-1636156800-1636243199@optiekvision.nl
SUMMARY:Digitale NVH congres - Dag van de Huidtherapeut
DESCRIPTION:“Onmisbare schakel in de huidzorg” \nLaservision is als congrespartner aanwezig tijdens ‘De dag van de Huidtherapeut 2021″.\nMaak kennis met de nieuwste ontwikkelingen in onze virtuele stand.
URL:https://optiekvision.nl/event/het-jaarlijkse-nvh-congres-voor-de-leden-van-de-nederlandse-vereniging-van-huidtherapie/
CATEGORIES:Beurzen en congressen,Esthetisch
ATTACH;FMTTYPE=image/jpeg:https://optiekvision.nl/wp-content/uploads/2024/01/shutterstock_529093312-Large.jpg
END:VEVENT
BEGIN:VEVENT
DTSTART;TZID=Europe/Paris:20210909T093000
DTEND;TZID=Europe/Paris:20210909T163000
DTSTAMP:20260422T165026
CREATED:20240111T080450Z
LAST-MODIFIED:20240111T080513Z
UID:1380930-1631179800-1631205000@optiekvision.nl
SUMMARY:Cursus Laserveiligheid\, locatie Alphen a/d Rijn
DESCRIPTION:Cursus Laserveiligheid 2021\nDe cursus wordt op de volgende dagen gehouden in Alphen a/d Rijn: \n\nDonderdag 9 september 2021\nDinsdag 12 oktober 2021\nDonderdag 4 november 2021\nDinsdag 30 november 2021\n\nMinimum aantal deelnemers per cursus is 5. Maximaal aantal deelnemers is 8.\n\nIn overleg kan de cursus ook bij u op locatie gegeven worden (on-site). Minimaal aantal deelnemers is dan 5. Lunch verzorgt u zelf en u zorgt voor een beamer met scherm/of muur. \nVoor meer informatie klik op de onderstaande button of neem contact op met: Wim Dingemans\, 0529-428 000
URL:https://optiekvision.nl/event/cursus-laserveiligheid-alphen/
LOCATION:Laservision Instruments B.V.\, J. Keplerweg 8F\, Alphen a/d Rijn\, 2408 AC\, Nederland
CATEGORIES:Dental,Esthetisch,Gynaecologie,KNO,Oogheelkunde,Tandartsen,Urologie,Workshops
ATTACH;FMTTYPE=image/jpeg:https://optiekvision.nl/wp-content/uploads/2024/01/laserveiligheid.jpg
ORGANIZER;CN="Laservision Instruments B.V.":MAILTO:info@laservision.nl
END:VEVENT
BEGIN:VEVENT
DTSTART;TZID=Europe/Paris:20210110T120000
DTEND;TZID=Europe/Paris:20210110T170000
DTSTAMP:20260422T165026
CREATED:20240111T080023Z
LAST-MODIFIED:20240111T080023Z
UID:1380927-1610280000-1610298000@optiekvision.nl
SUMMARY:OFN symposium 2021
DESCRIPTION:De OFN is een platform voor wie oogheelkundige beelden maakt\, variërend van fundusfotografie tot ultrawidefield angiografie via OCT en spleetlampfotografie. De OFN is opgezet met als oogmerk het delen van kennis en zo de oogheelkundige beeldvorming in Nederland op een zo hoog mogelijk peil te brengen. \nAls sponsor is Laservision aanwezig tijdens het OFN Symposium.
URL:https://optiekvision.nl/event/ofn-symposium-2021/
CATEGORIES:Beurzen en congressen,Oogheelkunde
ATTACH;FMTTYPE=image/jpeg:https://optiekvision.nl/wp-content/uploads/2024/01/Oogheader-e1587021150733.jpg
ORGANIZER;CN="Oogheelkundige Fotografie Nederland (OFN)":MAILTO:info@oogfotografie.nl
END:VEVENT
BEGIN:VEVENT
DTSTART;VALUE=DATE:20201123
DTEND;VALUE=DATE:20201124
DTSTAMP:20260422T165026
CREATED:20240111T081558Z
LAST-MODIFIED:20240111T081619Z
UID:1380937-1606089600-1606175999@optiekvision.nl
SUMMARY:FMT Totaal OK congres
DESCRIPTION:Vanwege de coronacrisis is het congres verplaatst naar 2021. De definitieve datum is nog niet bekend. Het programma blijft nagenoeg ongewijzigd. Het programma van het Totaal OK-congres 2020 richt zich op waarom bepaalde keuzes worden gemaakt en welke ervaringen gebruikers in de praktijk hebben. Ontwerp en inrichting\, het praktisch en medisch gebruik\, richtlijnen en beheer van nieuwe\, integrale OK-concepten zullen\, vanuit meerdere interessante invalshoeken\, volop de aandacht krijgen.
URL:https://optiekvision.nl/event/fmt-totaal-ok-congres/
CATEGORIES:Beurzen en congressen,OK
ATTACH;FMTTYPE=image/jpeg:https://optiekvision.nl/wp-content/uploads/2024/01/chirurg-OK-765x510-1.jpg
END:VEVENT
BEGIN:VEVENT
DTSTART;VALUE=DATE:20201120
DTEND;VALUE=DATE:20201121
DTSTAMP:20260422T165026
CREATED:20240111T081730Z
LAST-MODIFIED:20240111T081754Z
UID:1380941-1605830400-1605916799@optiekvision.nl
SUMMARY:Najaarssymposium NVvO Orthoptie
DESCRIPTION:
URL:https://optiekvision.nl/event/najaarssymposium-orthoptie/
CATEGORIES:Beurzen en congressen,Oogheelkunde
ATTACH;FMTTYPE=image/jpeg:https://optiekvision.nl/wp-content/uploads/2024/01/Oogheader-e1587021150733.jpg
END:VEVENT
BEGIN:VEVENT
DTSTART;TZID=Europe/Paris:20201107T140000
DTEND;TZID=Europe/Paris:20201107T170000
DTSTAMP:20260422T165026
CREATED:20240111T071051Z
LAST-MODIFIED:20240111T074224Z
UID:1380873-1604757600-1604768400@optiekvision.nl
SUMMARY:Eye Care Webinar
DESCRIPTION:Helaas kan het OCT Symposium dit jaar niet plaatsvinden vanwege COVID-19. \nOm u toch op de hoogte te brengen van de nieuwste ontwikkelingen nodigen wij u\, in samenwerking met Canon Medical\, van harte uit voor het eerste Canon Eye Care Webinar op zaterdag 7 november\, om 14:00 uur. \nHet doel van dit webinar is om u de meest geavanceerde technologieën te presenteren en onze uitgebreide oplossingen op het gebied van oogheelkunde te introduceren. \nHet webinar zal specifiek gericht zijn op een aantal belangrijke onderwerpen. Onze prominente gastsprekers zijn: Prof. Paulo Stanga\, Prof. Tariq Aslam en Prof. Giovanni Staurenghi. \nDr. Sal Rassam zal zijn ervaring en kennis met u delen en de voordelen van Canon Medical OCT laten zien\, gebaseerd op zijn ervaring in de dagelijkse praktijk en zijn lopende klinische studie. \nAlvast bedankt voor uw deelname! \nMet vriendelijke groet\, \nTeam Oogheelkunde
URL:https://optiekvision.nl/event/eye-care-webinar/
CATEGORIES:Oogheelkunde,Workshops
ATTACH;FMTTYPE=image/jpeg:https://optiekvision.nl/wp-content/uploads/2024/01/header.jpg
END:VEVENT
BEGIN:VEVENT
DTSTART;VALUE=DATE:20200717
DTEND;VALUE=DATE:20200721
DTSTAMP:20260422T165026
CREATED:20240111T055843Z
LAST-MODIFIED:20240111T070353Z
UID:1380869-1594947600-1595206799@optiekvision.nl
SUMMARY:EAU 2020 (virtueel)
DESCRIPTION:
URL:https://optiekvision.nl/event/eau-2020-virtueel/
CATEGORIES:Beurzen en congressen
ATTACH;FMTTYPE=image/jpeg:https://optiekvision.nl/wp-content/uploads/2024/01/header-event-web-EAU-2020.jpg
END:VEVENT
BEGIN:VEVENT
DTSTART;VALUE=DATE:20200401
DTEND;VALUE=DATE:20200404
DTSTAMP:20260422T165026
CREATED:20240111T081958Z
LAST-MODIFIED:20240111T082106Z
UID:1380945-1585699200-1585958399@optiekvision.nl
SUMMARY:NOG Jaarcongres 2020
DESCRIPTION:
URL:https://optiekvision.nl/event/laser-festival/
CATEGORIES:Beurzen en congressen
ATTACH;FMTTYPE=image/jpeg:https://optiekvision.nl/wp-content/uploads/2024/01/pexels-photo-376533.jpeg
END:VEVENT
END:VCALENDAR